BEGIN:VCALENDAR
VERSION:2.0
PRODID:-//Arapahoe Republicans - ECPv6.15.20//NONSGML v1.0//EN
CALSCALE:GREGORIAN
METHOD:PUBLISH
X-ORIGINAL-URL:https://arapahoerepublicans.org
X-WR-CALDESC:Events for Arapahoe Republicans
REFRESH-INTERVAL;VALUE=DURATION:PT1H
X-Robots-Tag:noindex
X-PUBLISHED-TTL:PT1H
BEGIN:VTIMEZONE
TZID:America/Denver
BEGIN:DAYLIGHT
TZOFFSETFROM:-0700
TZOFFSETTO:-0600
TZNAME:MDT
DTSTART:20250309T090000
END:DAYLIGHT
BEGIN:STANDARD
TZOFFSETFROM:-0600
TZOFFSETTO:-0700
TZNAME:MST
DTSTART:20251102T080000
END:STANDARD
BEGIN:DAYLIGHT
TZOFFSETFROM:-0700
TZOFFSETTO:-0600
TZNAME:MDT
DTSTART:20260308T090000
END:DAYLIGHT
BEGIN:STANDARD
TZOFFSETFROM:-0600
TZOFFSETTO:-0700
TZNAME:MST
DTSTART:20261101T080000
END:STANDARD
BEGIN:DAYLIGHT
TZOFFSETFROM:-0700
TZOFFSETTO:-0600
TZNAME:MDT
DTSTART:20270314T090000
END:DAYLIGHT
BEGIN:STANDARD
TZOFFSETFROM:-0600
TZOFFSETTO:-0700
TZNAME:MST
DTSTART:20271107T080000
END:STANDARD
END:VTIMEZONE
BEGIN:VEVENT
DTSTART;VALUE=DATE:20260303
DTEND;VALUE=DATE:20260304
DTSTAMP:20260422T040159
CREATED:20260110T190649Z
LAST-MODIFIED:20260110T190649Z
UID:704-1772496000-1772582399@arapahoerepublicans.org
SUMMARY:Caucus
DESCRIPTION:ACGOP Caucus \nSpecific times and locations TBD
URL:https://arapahoerepublicans.org/event/caucus/
END:VEVENT
BEGIN:VEVENT
DTSTART;TZID=America/Denver:20260304T090000
DTEND;TZID=America/Denver:20260304T120000
DTSTAMP:20260422T040159
CREATED:20260226T003930Z
LAST-MODIFIED:20260226T003930Z
UID:833-1772614800-1772625600@arapahoerepublicans.org
SUMMARY:Drop Off Caucus Materials - Southglenn
DESCRIPTION:Kim Wright \nMeeting Room B
URL:https://arapahoerepublicans.org/event/drop-off-caucus-materials-southglenn/
LOCATION:Southglenn Library\, 6972 S. Vine St.\, Centennial\, 80122\, United States
END:VEVENT
BEGIN:VEVENT
DTSTART;TZID=America/Denver:20260304T090000
DTEND;TZID=America/Denver:20260304T120000
DTSTAMP:20260422T040159
CREATED:20260226T004050Z
LAST-MODIFIED:20260226T004050Z
UID:834-1772614800-1772625600@arapahoerepublicans.org
SUMMARY:Drop Off Caucus Materials - Heather Gardens
DESCRIPTION:Robin O. \nSUNSHINE CAFÉ LOCATED BEHIND THE FIREPLACE IN THE CLUBHOUSE LOBBY
URL:https://arapahoerepublicans.org/event/drop-off-caucus-materials-heather-gardens/
LOCATION:Heather Gardens Clubhouse\, 2888 S Heather Gardens Way\, Aurora\, CO\, 80014\, United States
END:VEVENT
BEGIN:VEVENT
DTSTART;TZID=America/Denver:20260304T180000
DTEND;TZID=America/Denver:20260304T200000
DTSTAMP:20260422T040159
CREATED:20260226T004136Z
LAST-MODIFIED:20260226T004136Z
UID:835-1772647200-1772654400@arapahoerepublicans.org
SUMMARY:Drop Off Caucus Materials - Smoky Hill
DESCRIPTION:Robin O. \nStudy Room #2
URL:https://arapahoerepublicans.org/event/drop-off-caucus-materials-smoky-hill/
LOCATION:Smoky Hill Library\, 5430 S Biscay Circle\, Centennial\, 80015\, United States
END:VEVENT
BEGIN:VEVENT
DTSTART;TZID=America/Denver:20260317T183000
DTEND;TZID=America/Denver:20260317T203000
DTSTAMP:20260422T040159
CREATED:20260126T214103Z
LAST-MODIFIED:20260126T214234Z
UID:761-1773772200-1773779400@arapahoerepublicans.org
SUMMARY:Executive Committee Meeting
DESCRIPTION:
URL:https://arapahoerepublicans.org/event/executive-committee-meeting-8/
LOCATION:South Metro Fire District\, 9195 E. Mineral Ave\, Centennial\, CO\, 80112\, United States
END:VEVENT
BEGIN:VEVENT
DTSTART;TZID=America/Denver:20260321T080000
DTEND;TZID=America/Denver:20260321T130000
DTSTAMP:20260422T040159
CREATED:20260110T190825Z
LAST-MODIFIED:20260121T021856Z
UID:705-1774080000-1774098000@arapahoerepublicans.org
SUMMARY:County Assembly
DESCRIPTION:ACGOP County Assembly \nSpecific location TBD
URL:https://arapahoerepublicans.org/event/county-assembly/
END:VEVENT
END:VCALENDAR